BEGIN:VCALENDAR
VERSION:2.0
PRODID:-//Mittelstands- und Wirtschaftsunion (MIT) Wolfenbüttel - ECPv6.15.20//NONSGML v1.0//EN
CALSCALE:GREGORIAN
METHOD:PUBLISH
X-WR-CALNAME:Mittelstands- und Wirtschaftsunion (MIT) Wolfenbüttel
X-ORIGINAL-URL:https://www.mit-wf.de
X-WR-CALDESC:Veranstaltungen für Mittelstands- und Wirtschaftsunion (MIT) Wolfenbüttel
REFRESH-INTERVAL;VALUE=DURATION:PT1H
X-Robots-Tag:noindex
X-PUBLISHED-TTL:PT1H
BEGIN:VTIMEZONE
TZID:Europe/Berlin
BEGIN:DAYLIGHT
TZOFFSETFROM:+0100
TZOFFSETTO:+0200
TZNAME:CEST
DTSTART:20240331T010000
END:DAYLIGHT
BEGIN:STANDARD
TZOFFSETFROM:+0200
TZOFFSETTO:+0100
TZNAME:CET
DTSTART:20241027T010000
END:STANDARD
BEGIN:DAYLIGHT
TZOFFSETFROM:+0100
TZOFFSETTO:+0200
TZNAME:CEST
DTSTART:20250330T010000
END:DAYLIGHT
BEGIN:STANDARD
TZOFFSETFROM:+0200
TZOFFSETTO:+0100
TZNAME:CET
DTSTART:20251026T010000
END:STANDARD
BEGIN:DAYLIGHT
TZOFFSETFROM:+0100
TZOFFSETTO:+0200
TZNAME:CEST
DTSTART:20260329T010000
END:DAYLIGHT
BEGIN:STANDARD
TZOFFSETFROM:+0200
TZOFFSETTO:+0100
TZNAME:CET
DTSTART:20261025T010000
END:STANDARD
END:VTIMEZONE
BEGIN:VEVENT
DTSTART;TZID=Europe/Berlin:20250813T183000
DTEND;TZID=Europe/Berlin:20250813T200000
DTSTAMP:20260424T172958
CREATED:20250704T105629Z
LAST-MODIFIED:20250704T111236Z
UID:10000173-1755109800-1755115200@www.mit-wf.de
SUMMARY:MIT fragt den Bürgermeister
DESCRIPTION:Offene Diskussionsrunde mit Bürgermeister Ivica Lukanic \nDie Stadt Wolfenbüttel lädt die Mitglieder der MIT Wolfenbüttel herzlich zu einer offenen Diskussionsrunde mit Bürgermeister Ivica Lukanic ein. Im Fokus steht der direkte Austausch über die aktuelle Situation der Stadt – offen\, ehrlich und konstruktiv. \nBürgermeister Lukanic wird zunächst einen Überblick über die derzeitige Lage in Wolfenbüttel geben. Im Anschluss steht er für Fragen aller Art zur Verfügung – ausdrücklich auch für kritische oder wirtschaftsbezogene Anliegen\, die insbesondere unsere Unternehmerinnen und Unternehmer betreffen. \nDiese Veranstaltung bietet die Gelegenheit\, aktuelle Themen offen anzusprechen und eigene Anliegen direkt mit dem Stadtoberhaupt zu erörtern. Wir freuen uns auf eine lebendige Diskussion und einen gewinnbringenden Austausch. \nIm Anschluss ist ein kleiner Umtrunk mit Häppchen im Ratssaal geplant. \nDie Einladung gilt nur für Mitglieder der MIT und deren Begleitung. \nZUR ANMELDUNG KLICKEN SIE BITTE HIER
URL:https://www.mit-wf.de/event/mit-fragt-den-buergermeister/
LOCATION:Rathaus – Ratssaal\, Stadtmarkt 3+6\, Wolfenbüttel\, 38300
ATTACH;FMTTYPE=image/jpeg:https://www.mit-wf.de/medien/2025/07/rathaus-adobestock_536438918.jpg
END:VEVENT
BEGIN:VEVENT
DTSTART;TZID=Europe/Berlin:20250827T160000
DTEND;TZID=Europe/Berlin:20250827T180000
DTSTAMP:20260424T172958
CREATED:20250512T095609Z
LAST-MODIFIED:20250611T091228Z
UID:10000170-1756310400-1756317600@www.mit-wf.de
SUMMARY:Besichtigung Neubau der KVG in Salzgitter - NEUER TERMIN!
DESCRIPTION:ACHTUNG: DIESER TERMIN WURDE AUF DEN 27.08.2025 16:00 UHR VERSCHOBEN! \nLiebe Mitglieder der MIT Wolfenbüttel\, \nwir laden Sie herzlich zu einer exklusiven Betriebsbesichtigung des neuen Betriebshofes der Kraftverkehrsgesellschaft Braunschweig (KVG) in Salzgitter-Lebenstedt ein. \nMit einem Gesamtvolumen von rund 22\,7 Millionen Euro stellt der Neubau das bisher größte Infrastrukturprojekt in der Geschichte der KVG dar. Die Anlage wird nicht nur höchsten energetischen Anforderungen gerecht – durch Geothermie\, Wärmepumpen und Photovoltaik –\, sondern dient zugleich als Vorreiter für einen vollständig auf E-Mobilität ausgerichteten ÖPNV-Betriebshof. \nNach dem ersten Spatenstich im Januar 2024 schreitet der Bau in sechs Phasen zügig voran\, ohne den laufenden Betrieb wesentlich zu beeinträchtigen. Geplant wird das Projekt vom renommierten Architekturbüro n³a aus Wolfenbüttel. Die Fertigstellung ist für Ende 2026 vorgesehen. \nVor Ort wird uns unser MIT-Mitglied und ausführender Architekt Andreas Niehüser exklusive Einblicke in die bauliche Umsetzung\, das nachhaltige Energiekonzept und die strategische Bedeutung des neuen Standorts vorstellen. \nDie Teilnahme ist auf 30 Personen beschränkt. \nVeranstaltungsort:\nKVG Braunschweig mbH Betriebshof Salzgitter-Lebenstedt\nAn d. Feuerwache 12-20\n38226 Salzgitter \nAnmeldung\nBitte klicken Sie unten auf „Inhalt entsperren“\, um zur Anmeldeplattform von Eventim weitergeleitet zu werden.\nDort können Sie die gewünschte Anzahl an Karten buchen. \nNach erfolgreicher Buchung erhalten Sie Ihr Ticket automatisch per E-Mail. \n\n\n\nSie sehen gerade einen Platzhalterinhalt von Standard. Um auf den eigentlichen Inhalt zuzugreifen\, klicken Sie auf den Button unten. Bitte beachten Sie\, dass dabei Daten an Drittanbieter weitergegeben werden. \n Inhalt entsperren Erforderlichen Service akzeptieren und Inhalte entsperren \n Mehr Informationen
URL:https://www.mit-wf.de/event/besichtigung-neubau-der-kvg-in-salzgitter/
LOCATION:KVG Salzgitter\, An d. Feuerwache 12-20\, Salzgitter\, 38226
ATTACH;FMTTYPE=image/jpeg:https://www.mit-wf.de/medien/2025/05/mit-besuch-kvg_adobestock_724141658.jpg
END:VEVENT
BEGIN:VEVENT
DTSTART;TZID=Europe/Berlin:20250827T180000
DTEND;TZID=Europe/Berlin:20250827T220000
DTSTAMP:20260424T172958
CREATED:20250806T123211Z
LAST-MODIFIED:20250806T123524Z
UID:10000175-1756317600-1756332000@www.mit-wf.de
SUMMARY:4. MIT-Niedersachsen Sommerfest – Austausch\, Grill & gute Gespräche
DESCRIPTION:Liebe Mitglieder\,\nliebe Freundinnen und Freunde unseres MIT-Netzwerks\, \nwir laden Sie herzlich zu unserem 4. MIT-Sommerfest ein! \nFreuen Sie sich auf einen entspannten Sommerabend mit gekühlten Getränken\, leckerem vom Grill und guter Musik – in angenehmer Atmosphäre und mit vielen Gelegenheiten zum persönlichen Austausch. \nGemeinsam mit der MIT Lüneburg haben wir ein anschauliches Programm aufgestellt\, das sowohl Raum für gute Gespräche als auch spannende Impulse bietet. Im Mittelpunkt stehen wie immer aktuelle Herausforderungen im Mittelstand und in der Politik – und natürlich Sie: unsere engagierten Mitglieder\, Unterstützerinnen und Unterstützer. \nKommen Sie mit bekannten und neuen Gesichtern ins Gespräch – wir freuen uns auf einen inspirierenden Abend mit Ihnen! \nSeien Sie dabei – wir freuen uns auf Ihr Kommen! \nWeitere Informationen (PDF)\nAnmeldung: www.mittelstand-niedersachsen.de/sommerfest2025 \nMit sommerlichen Grüßen\nDas Team aus der MIT-Landesgeschäftsstelle \n 
URL:https://www.mit-wf.de/event/4-mit-niedersachsen-sommerfest-austausch-grill-gute-gespraeche/
END:VEVENT
END:VCALENDAR