BEGIN:VCALENDAR
VERSION:2.0
PRODID:-//Mittelstands- und Wirtschaftsunion (MIT) Wolfenbüttel - ECPv6.15.20//NONSGML v1.0//EN
CALSCALE:GREGORIAN
METHOD:PUBLISH
X-ORIGINAL-URL:https://www.mit-wf.de
X-WR-CALDESC:Veranstaltungen für Mittelstands- und Wirtschaftsunion (MIT) Wolfenbüttel
REFRESH-INTERVAL;VALUE=DURATION:PT1H
X-Robots-Tag:noindex
X-PUBLISHED-TTL:PT1H
BEGIN:VTIMEZONE
TZID:Europe/Berlin
BEGIN:DAYLIGHT
TZOFFSETFROM:+0100
TZOFFSETTO:+0200
TZNAME:CEST
DTSTART:20240331T010000
END:DAYLIGHT
BEGIN:STANDARD
TZOFFSETFROM:+0200
TZOFFSETTO:+0100
TZNAME:CET
DTSTART:20241027T010000
END:STANDARD
BEGIN:DAYLIGHT
TZOFFSETFROM:+0100
TZOFFSETTO:+0200
TZNAME:CEST
DTSTART:20250330T010000
END:DAYLIGHT
BEGIN:STANDARD
TZOFFSETFROM:+0200
TZOFFSETTO:+0100
TZNAME:CET
DTSTART:20251026T010000
END:STANDARD
BEGIN:DAYLIGHT
TZOFFSETFROM:+0100
TZOFFSETTO:+0200
TZNAME:CEST
DTSTART:20260329T010000
END:DAYLIGHT
BEGIN:STANDARD
TZOFFSETFROM:+0200
TZOFFSETTO:+0100
TZNAME:CET
DTSTART:20261025T010000
END:STANDARD
END:VTIMEZONE
BEGIN:VEVENT
DTSTART;TZID=Europe/Berlin:20250602T180000
DTEND;TZID=Europe/Berlin:20250602T200000
DTSTAMP:20260424T224606
CREATED:20250512T101707Z
LAST-MODIFIED:20250526T063631Z
UID:10000171-1748887200-1748894400@www.mit-wf.de
SUMMARY:Exklusive Betriebsbesichtigung im Bankhaus C.L. Seeliger - verschoben auf 02.06.2025
DESCRIPTION:Der Landesverband der MIT Braunschweig lädt herzlich zu einer exklusiven Betriebsbesichtigung ein. \nErleben Sie einen spannenden Blick hinter die Kulissen eines der traditionsreichsten Bankhäuser der Region. Im Rahmen einer exklusiven Betriebsbesichtigung erhalten Sie Einblicke in die Geschichte\, Philosophie und Arbeitsweise des Bankhaus C.L. Seeliger – mit persönlicher Führung durch die Räumlichkeiten. \nEin besonderer Programmpunkt ist der Fachvortrag zum Thema: \n„Kapitalmarktausblick – Entwicklungen\, Chancen und Herausforderungen“ \nEin erfahrener Referent beleuchtet die aktuelle Lage an den Finanzmärkten\, analysiert Trends und zeigt auf\, welche Entwicklungen Investoren im Blick behalten sollten. Im Anschluss laden wir Sie zu einem Get-together bei kleinen Snacks und Getränken ein – eine gute Gelegenheit für persönlichen Austausch in angenehmer Atmosphäre. \nAblauf der Veranstaltung: \n\nEmpfang und Begrüßung\n\n\nBetriebsführung durch das Bankhaus C.L. Seeliger\n\n\nFachvortrag: „Kapitalmarktausblick“\n\n\nGet-together mit Catering & Getränken\n\nTeilnehmerzahl:\nDie Veranstaltung ist auf 30 Personen begrenzt – eine frühzeitige Anmeldung wird empfohlen. \nParkmöglichkeiten:\nParkhaus am Rosenwall oder Parkhaus im Löwentor befinden sich in fußläufiger Nähe zum Veranstaltungsort. \nJetzt anmelden:\nhttps://www.eventbrite.com/e/betriebsbesichtigung-im-bankhaus-cl-seeliger-tickets-1324886423959 \n  \nHinweis:\nDiese Veranstaltung ist vom MIT Landesverband Braunschweig\, nicht von der MIT Wolfenbüttel. \n 
URL:https://www.mit-wf.de/event/exklusive-betriebsbesichtigung-im-bankhaus-c-l-seeliger/
LOCATION:Bankhaus C. L. Seeliger\, Lange Herzogstraße 63\, Wolfenbüttel\, Niedersachsen\, 38300\, Deutschland
ATTACH;FMTTYPE=image/jpeg:https://www.mit-wf.de/medien/2025/05/mit-lvbs_seeligerbank_adobestock1084607212.jpg
GEO:52.163424;10.5347835
X-APPLE-STRUCTURED-LOCATION;VALUE=URI;X-ADDRESS=Bankhaus C. L. Seeliger Lange Herzogstraße 63 Wolfenbüttel Niedersachsen 38300 Deutschland;X-APPLE-RADIUS=500;X-TITLE=Lange Herzogstraße 63:geo:10.5347835,52.163424
END:VEVENT
BEGIN:VEVENT
DTSTART;TZID=Europe/Berlin:20250618T183000
DTEND;TZID=Europe/Berlin:20250618T213000
DTSTAMP:20260424T224606
CREATED:20250305T071502Z
LAST-MODIFIED:20250611T091024Z
UID:10000164-1750271400-1750282200@www.mit-wf.de
SUMMARY:Traditionelles Spargelessen im Reitlingstal
DESCRIPTION:Liebe Mitglieder und Freunde der MIT\, \nwir laden Sie herzlich zu unserem traditionellen Spargelessen der Mittelstands- und Wirtschaftsunion (MIT) Wolfenbüttel im Reitlingstal bei unserem MIT-Mitglied Frerk Hennicke ein. Freuen Sie sich auf einen geselligen Abend in angenehmer Runde und genießen Sie ein umfangreiches Spargelbuffet mit allem\, was dazugehört. \nSpargelbuffet satt:\n32\,90\,- € / Person\n(Barzahlung vor Ort beim Personal) \nDie Anmeldung ist kostenlos. \nAnmeldung\nBitte klicken Sie unten auf „Inhalt entsperren“\, um zur Anmeldeplattform von Eventim weitergeleitet zu werden.\nDort können Sie die gewünschte Anzahl an Karten buchen. \nNach erfolgreicher Buchung erhalten Sie Ihr Ticket automatisch per E-Mail. \n\n\n\nSie sehen gerade einen Platzhalterinhalt von Standard. Um auf den eigentlichen Inhalt zuzugreifen\, klicken Sie auf den Button unten. Bitte beachten Sie\, dass dabei Daten an Drittanbieter weitergegeben werden. \n Inhalt entsperren Erforderlichen Service akzeptieren und Inhalte entsperren \n Mehr Informationen
URL:https://www.mit-wf.de/event/traditionelles-spargelessen-im-reitlingstal/
LOCATION:Gaststätte Reitling im Elm\, Waldgaststätte Reitling 1\, Erkerode / Reitlingstal\, 38173
ATTACH;FMTTYPE=image/jpeg:https://www.mit-wf.de/medien/2024/02/mit-spargeleessen-adobe145167079.jpg
END:VEVENT
BEGIN:VEVENT
DTSTART;TZID=Europe/Berlin:20250624T180000
DTEND;TZID=Europe/Berlin:20250624T200000
DTSTAMP:20260424T224606
CREATED:20250610T113610Z
LAST-MODIFIED:20250611T090217Z
UID:10000172-1750788000-1750795200@www.mit-wf.de
SUMMARY:KI-Zukunft: Chancen für Mittelstand und Wirtschaft
DESCRIPTION:Einladung zum Impulsabend „KI im Mittelstand“ \nOb automatisierte E-Mail-Antworten\, intelligente Schichtplanung\, vorausschauende Maschinenwartung oder KI-gestützte Angebotserstellung: Auch kleine und mittlere Unternehmen können mit den richtigen Lösungen sofort profitieren. \nDoch wie findet man sich in der Vielfalt an Tools und Technologien zurecht? Welche Anwendungen passen zum eigenen Geschäftsmodell – vom Handwerksbetrieb bis zum Industrieunternehmen? Und was leisten moderne KI-Modelle wie Transformer oder Agentensysteme konkret im Mittelstand? \nDr. Julian Stahl und Sascha Rühmann von der ai-unit geben einen kompakten Überblick\, zeigen erfolgreiche Praxisbeispiele und erläutern\, wie Sie mit Unterstützung der i-unit group schnell und rechtssicher KI-Lösungen in Ihrem Betrieb etablieren können. \nFreuen Sie sich auf einen Impulsabend voller Klartext\, Praxiswissen und konkreter Handlungsempfehlungen – kompakt\, verständlich und mit Raum für Ihre Fragen. \nAnmeldung\nBitte klicken Sie unten auf „Inhalt entsperren“\, um zur Anmeldeplattform von Eventim weitergeleitet zu werden.\nDort können Sie die gewünschte Anzahl an Karten buchen. \nNach erfolgreicher Buchung erhalten Sie Ihr Ticket automatisch per E-Mail. \n\n\n\nSie sehen gerade einen Platzhalterinhalt von Standard. Um auf den eigentlichen Inhalt zuzugreifen\, klicken Sie auf den Button unten. Bitte beachten Sie\, dass dabei Daten an Drittanbieter weitergegeben werden. \n Inhalt entsperren Erforderlichen Service akzeptieren und Inhalte entsperren \n Mehr Informationen
URL:https://www.mit-wf.de/event/ki-zukunft-chancen-fuer-mittelstand-und-wirtschaft/
LOCATION:i-unit Intelligence Unit Consulting GmbH\, Steintorwall 3\, Braunschweig\, 38100\, Deutschland
ATTACH;FMTTYPE=image/jpeg:https://www.mit-wf.de/medien/2025/06/ki-vortrag-2025_adobestock_1271212927.jpg
GEO:52.2619655;10.5337603
X-APPLE-STRUCTURED-LOCATION;VALUE=URI;X-ADDRESS=i-unit Intelligence Unit Consulting GmbH Steintorwall 3 Braunschweig 38100 Deutschland;X-APPLE-RADIUS=500;X-TITLE=Steintorwall 3:geo:10.5337603,52.2619655
END:VEVENT
END:VCALENDAR