BEGIN:VCALENDAR
VERSION:2.0
PRODID:-//Mittelstands- und Wirtschaftsunion (MIT) Wolfenbüttel - ECPv6.15.20//NONSGML v1.0//EN
CALSCALE:GREGORIAN
METHOD:PUBLISH
X-ORIGINAL-URL:https://www.mit-wf.de
X-WR-CALDESC:Veranstaltungen für Mittelstands- und Wirtschaftsunion (MIT) Wolfenbüttel
REFRESH-INTERVAL;VALUE=DURATION:PT1H
X-Robots-Tag:noindex
X-PUBLISHED-TTL:PT1H
BEGIN:VTIMEZONE
TZID:Europe/Berlin
BEGIN:DAYLIGHT
TZOFFSETFROM:+0100
TZOFFSETTO:+0200
TZNAME:CEST
DTSTART:20240331T010000
END:DAYLIGHT
BEGIN:STANDARD
TZOFFSETFROM:+0200
TZOFFSETTO:+0100
TZNAME:CET
DTSTART:20241027T010000
END:STANDARD
BEGIN:DAYLIGHT
TZOFFSETFROM:+0100
TZOFFSETTO:+0200
TZNAME:CEST
DTSTART:20250330T010000
END:DAYLIGHT
BEGIN:STANDARD
TZOFFSETFROM:+0200
TZOFFSETTO:+0100
TZNAME:CET
DTSTART:20251026T010000
END:STANDARD
BEGIN:DAYLIGHT
TZOFFSETFROM:+0100
TZOFFSETTO:+0200
TZNAME:CEST
DTSTART:20260329T010000
END:DAYLIGHT
BEGIN:STANDARD
TZOFFSETFROM:+0200
TZOFFSETTO:+0100
TZNAME:CET
DTSTART:20261025T010000
END:STANDARD
END:VTIMEZONE
BEGIN:VEVENT
DTSTART;TZID=Europe/Berlin:20250423T183000
DTEND;TZID=Europe/Berlin:20250423T210000
DTSTAMP:20260425T012313
CREATED:20250129T112416Z
LAST-MODIFIED:20250416T120011Z
UID:10000162-1745433000-1745442000@www.mit-wf.de
SUMMARY:Betriebsbesichtigung Vetterkind und Vortrag - Ausgebucht
DESCRIPTION:Betriebsbesichtigung:\nBei dieser Veranstaltung werden das Unternehmen Vetterkind aus Wolfenbüttel besichtigen. Inhaber Stephan Vetterkind wird uns das Unternehmen zeigen und das Leistungsspektrum erläutern. \nDie Vetterkind Metallbau GmbH aus Wolfenbüttel ist ein traditionsreiches Unternehmen\, das sich auf hochwertige Metallbauarbeiten spezialisiert hat. Das Leistungsspektrum umfasst unter anderem die Planung\, Fertigung und Montage von Wintergärten\, Türen\, Toren\, Fenstern\, Balkonen\, Treppen\, Fassaden\, Geländern\, Ganzglaskonstruktionen\, Überdachungen\, Sonderanfertigungen sowie Brand- und Rauchschutzsystemen.   \nDas Unternehmen legt großen Wert auf Qualität und Zuverlässigkeit und verbindet traditionelle Handwerkskunst mit innovativer Technologie. Ein eingespieltes Team aus erfahrenen und engagierten Mitarbeitern sorgt dafür\, dass Kunden von der Planung bis zur Montage vor Ort bestmöglich betreut werden. Ein bemerkenswertes Projekt der Vetterkind Metallbau GmbH ist der Bau des Eisstadions in Braunlage in den Jahren 1972–1973.  \nVortrag:\nPassend zum Thema Stahl wird Dr. Michael Bruehl\, Betriebsdirektor Bereich Kaltflach Salzgitter Flachstahl\, einen Vortrag mit dem Thema „Transformation bei der Stahlherstellung“ vortragen. \nAnschließend gibt es einen kleinen Imbiss. \n  \nDIE VERANSTALTUNG IST AUSGEBUCHT. \n 
URL:https://www.mit-wf.de/event/betriebsbesichtigung-vetterkind-und-vortrag/
LOCATION:Vetterkind Metallbau\, Goslarsche Straße 32a\, Wolfenbüttel\, 38304
ATTACH;FMTTYPE=image/jpeg:https://www.mit-wf.de/medien/2025/01/mit_vetterking_adobestock_1195498247.jpg
END:VEVENT
BEGIN:VEVENT
DTSTART;TZID=Europe/Berlin:20250424T090000
DTEND;TZID=Europe/Berlin:20250424T220000
DTSTAMP:20260425T012313
CREATED:20250401T121150Z
LAST-MODIFIED:20250401T121237Z
UID:10000168-1745485200-1745532000@www.mit-wf.de
SUMMARY:Innovationen im Mittelstand
DESCRIPTION:Eine Veranstaltung der MIT-Niedersachsen \nInnovationen im Mittelstand ist unser Thema beim 3. Unternehmertag im Landkreis Stade\nIn Harsefeld sind wir Gast der Viebrockhaus AG. Aus einem 1954 gegründeten Bauunternehmen ist durch viele innovative Konzepte einer der führenden deutschen familiengeführten Massivhaus-Anbieter entstanden. \nIm Stader CFK Valley dreht sich alles um Kohlefaserverbundstoffe. In dem CFK Cluster arbeiten Großindustrie\, Wissenschaft und mittelständische Unternehmen gemeinsam an innovativen Lösungen im Leichtbau. \nFreut Euch auf einen interessanten Tag!  \nWeitere Informationen siehe Einladung (PDF)
URL:https://www.mit-wf.de/event/innovationen-im-mittelstand/
CATEGORIES:MIT Veranstaltungen
END:VEVENT
END:VCALENDAR