BEGIN:VCALENDAR
VERSION:2.0
PRODID:-//Mittelstands- und Wirtschaftsunion (MIT) Wolfenbüttel - ECPv6.15.20//NONSGML v1.0//EN
CALSCALE:GREGORIAN
METHOD:PUBLISH
X-ORIGINAL-URL:https://www.mit-wf.de
X-WR-CALDESC:Veranstaltungen für Mittelstands- und Wirtschaftsunion (MIT) Wolfenbüttel
REFRESH-INTERVAL;VALUE=DURATION:PT1H
X-Robots-Tag:noindex
X-PUBLISHED-TTL:PT1H
BEGIN:VTIMEZONE
TZID:Europe/Berlin
BEGIN:DAYLIGHT
TZOFFSETFROM:+0100
TZOFFSETTO:+0200
TZNAME:CEST
DTSTART:20250330T010000
END:DAYLIGHT
BEGIN:STANDARD
TZOFFSETFROM:+0200
TZOFFSETTO:+0100
TZNAME:CET
DTSTART:20251026T010000
END:STANDARD
BEGIN:DAYLIGHT
TZOFFSETFROM:+0100
TZOFFSETTO:+0200
TZNAME:CEST
DTSTART:20260329T010000
END:DAYLIGHT
BEGIN:STANDARD
TZOFFSETFROM:+0200
TZOFFSETTO:+0100
TZNAME:CET
DTSTART:20261025T010000
END:STANDARD
BEGIN:DAYLIGHT
TZOFFSETFROM:+0100
TZOFFSETTO:+0200
TZNAME:CEST
DTSTART:20270328T010000
END:DAYLIGHT
BEGIN:STANDARD
TZOFFSETFROM:+0200
TZOFFSETTO:+0100
TZNAME:CET
DTSTART:20271031T010000
END:STANDARD
END:VTIMEZONE
BEGIN:VEVENT
DTSTART;TZID=Europe/Berlin:20260429T163000
DTEND;TZID=Europe/Berlin:20260429T190000
DTSTAMP:20260420T194459
CREATED:20260216T101019Z
LAST-MODIFIED:20260410T070634Z
UID:10000181-1777480200-1777489200@www.mit-wf.de
SUMMARY:DER SCHMIDT: Exklusive Besichtigung Flughafenterminal Braunschweig
DESCRIPTION:Freuen Sie sich auf einen exklusiven Blick hinter die Kulissen des neuen Terminals am Flughafen Braunschweig. \nGemeinsam mit Philipp Cantauw\, Geschäftsführer bei DER SCHMIDT\, sowie Michael Schwarz\, Geschäftsführer des Flughafens Braunschweig-Wolfsburg\, erhalten wir spannende Einblicke in die Abläufe vor Ort und erfahren\, warum „Fliegen ab Braunschweig“ derzeit für Bewegung in der Reisebranche sorgt. \nAblauf\n16:00 Uhr – Bustransfer ab Schmidt-Terminal\nBitte seien Sie spätestens 15 Minuten vor Abfahrt vor Ort.\n\nBei eigener Anreise bitten wir Sie\, sich um 16:20 Uhr am Eingang des Flughafens einzufinden.\n\n16:20 Uhr – Sicherheitskontrolle und Einlass am Flughafen\n\n16:30 Uhr – Besichtigung des Flughafens\n\n18:00 Uhr – Vortrag von Momento\n\n18:15 Uhr – Netzwerken und Imbiss\n\nca. 19:15 Uhr – Rückfahrt zum Schmidt-Terminal\n\n\nWichtiger Hinweis\nBitte bringen Sie zur Sicherheitskontrolle unbedingt Ihren Personalausweis oder Reisepass mit\, da Ihnen andernfalls der Zutritt zum Flughafen leider verwehrt werden muss.\n\nAusverkauft
URL:https://www.mit-wf.de/event/exklusive-besichtigung-flughafenterminal-braunschweig/
LOCATION:Flughafen Braunschweig\, Lilienthalplatz 5\, Braunschweig\, 38108
ATTACH;FMTTYPE=image/jpeg:https://www.mit-wf.de/medien/2026/02/Besichtigung-Flughafen-Braunschweig-web.jpg
END:VEVENT
BEGIN:VEVENT
DTSTART;TZID=Europe/Berlin:20260506T183000
DTEND;TZID=Europe/Berlin:20260506T233000
DTSTAMP:20260420T194459
CREATED:20260216T104528Z
LAST-MODIFIED:20260220T102313Z
UID:10000182-1778092200-1778110200@www.mit-wf.de
SUMMARY:Betriebsbesichtigung & MIT-After-Work bei WMS-Event
DESCRIPTION:Dirk Wöhler von WMS-Event lädt uns zu einer besonderen Veranstaltung ein: \nFreuen Sie sich auf eine spannende Betriebsbesichtigung mit Einblicken hinter die Kulissen eines modernen Eventdienstleisters. Erfahren Sie aus erster Hand\, wie Veranstaltungen geplant\, organisiert und technisch umgesetzt werden – praxisnah\, offen und direkt vor Ort. \nIm Anschluss lassen wir den Abend bei einer entspannten MIT-After-Work-Party ausklingen. Nutzen Sie die Gelegenheit zum Netzwerken\, für gute Gespräche und einen lockeren Austausch in angenehmer Atmosphäre. Wir freuen uns auf einen informativen und geselligen Abend mit Ihnen! \nZur Anmeldung
URL:https://www.mit-wf.de/event/betriebsbesichtigung-mit-after-work-bei-wms-event/
LOCATION:WMS Event\, Bevenroder Straße 151\, Braunschweig\, 38108
ATTACH;FMTTYPE=image/jpeg:https://www.mit-wf.de/medien/2026/02/After-Work-Party-AdobeStock_964914272-web.jpg
END:VEVENT
BEGIN:VEVENT
DTSTART;TZID=Europe/Berlin:20260617T183000
DTEND;TZID=Europe/Berlin:20260617T220000
DTSTAMP:20260420T194500
CREATED:20260216T105912Z
LAST-MODIFIED:20260216T105912Z
UID:10000183-1781721000-1781733600@www.mit-wf.de
SUMMARY:Traditionelles Spargelessen im Reitlingstal
DESCRIPTION:Wir laden herzlich zu unserem gemeinsamen\, traditionellen Spargelessen in die Gaststätte Reitlingstal ein. \nGastgeber ist unser MIT-Mitglied Frerk Hennicke\, der uns in gemütlicher Atmosphäre willkommen heißt. Freuen Sie sich auf einen genussvollen Abend mit frischem Spargel\, guten Gesprächen und einem entspannten Austausch unter Mitgliedern und Freunden. \nEine schöne Gelegenheit\, abseits des Alltags zusammenzukommen\, Kontakte zu pflegen und die Spargelsaison gemeinsam zu genießen. \nWir freuen uns auf einen geselligen Abend im Reitlingstal! \nZur Anmeldung
URL:https://www.mit-wf.de/event/traditionelles-spargelessen-im-reitlingstal-2/
LOCATION:Gaststätte Reitling im Elm\, Waldgaststätte Reitling 1\, Erkerode / Reitlingstal\, 38173
ATTACH;FMTTYPE=image/jpeg:https://www.mit-wf.de/medien/2026/02/Spargelessen-AdobeStock_81764191-web.jpg
END:VEVENT
BEGIN:VEVENT
DTSTART;TZID=Europe/Berlin:20260722T183000
DTEND;TZID=Europe/Berlin:20260722T220000
DTSTAMP:20260420T194500
CREATED:20260216T110312Z
LAST-MODIFIED:20260216T110312Z
UID:10000184-1784745000-1784757600@www.mit-wf.de
SUMMARY:MIT-Ferienstammtisch
DESCRIPTION:Wie in jedem Jahr treffen wir uns ganz ungezwungen im KOMM Beachclub – ohne Programm\, ohne Vortrag\, dafür mit viel Zeit für gute Gespräche und entspannten Austausch. In lockerer Atmosphäre möchten wir einfach zusammenkommen\, Netzwerken\, neue Kontakte knüpfen und den Abend gemeinsam genießen. \nEine Anmeldung ist nicht erforderlich.
URL:https://www.mit-wf.de/event/mit-ferienstammtisch/
LOCATION:KOMM Beach Club\, Landeshuter Platz 6\, Wolfenbüttel\, 38300
ATTACH;FMTTYPE=image/jpeg:https://www.mit-wf.de/medien/2026/02/Ferienstammtisch-AdobeStock_113592814-web.jpg
GEO:52.1616794;10.5438564
X-APPLE-STRUCTURED-LOCATION;VALUE=URI;X-ADDRESS=KOMM Beach Club Landeshuter Platz 6 Wolfenbüttel 38300;X-APPLE-RADIUS=500;X-TITLE=Landeshuter Platz 6:geo:10.5438564,52.1616794
END:VEVENT
BEGIN:VEVENT
DTSTART;TZID=Europe/Berlin:20260915T183000
DTEND;TZID=Europe/Berlin:20260915T220000
DTSTAMP:20260420T194500
CREATED:20260216T110608Z
LAST-MODIFIED:20260216T110839Z
UID:10000185-1789497000-1789509600@www.mit-wf.de
SUMMARY:Betriebsbesichtigung Okermühle Hedwigsburg
DESCRIPTION:Wir laden herzlich zu einer spannenden Betriebsbesichtigung der Okermühle Hedwigsburg ein. \nVor Ort erhalten wir exklusive Einblicke in die Abläufe\, Hintergründe und Besonderheiten des traditionsreichen Betriebs und erfahren mehr über seine Entwicklung und heutige Arbeit. \nFreuen Sie sich auf interessante Eindrücke\, persönliche Gespräche und die Gelegenheit zum Austausch in besonderer Atmosphäre. Eine schöne Möglichkeit\, regionale Wirtschaft einmal ganz nah zu erleben. \nAnmeldeoptionen folgen.
URL:https://www.mit-wf.de/event/betriebsbesichtigung-okermuehle-hedwigsburg/
LOCATION:Okermühle Hedwigsburg\, Postbergstraße 14–16\, Hedwigsburg\, 38324
ATTACH;FMTTYPE=image/jpeg:https://www.mit-wf.de/medien/2026/02/Besichtigung-Oker-Muehle-Hedwigsburg-web.jpg
END:VEVENT
BEGIN:VEVENT
DTSTART;TZID=Europe/Berlin:20261118T183000
DTEND;TZID=Europe/Berlin:20261118T220000
DTSTAMP:20260420T194500
CREATED:20260216T110958Z
LAST-MODIFIED:20260216T110958Z
UID:10000186-1795026600-1795039200@www.mit-wf.de
SUMMARY:Mitgliederversammlung & Grünkohlessen
DESCRIPTION:Wir laden herzlich zur diesjährigen Mitgliederversammlung ein. Neben den formalen Punkten und einem Rückblick auf die vergangenen Aktivitäten steht vor allem der gemeinsame Austausch im Mittelpunkt. Im Anschluss lassen wir den Abend traditionell bei einem gemütlichen Grünkohlessen ausklingen. \nEine gute Gelegenheit\, sich zu informieren\, mitzureden und in entspannter Runde zusammenzukommen. Wir freuen uns auf Ihre Teilnahme! \nOrt und Anmeldeoptionen folgen.
URL:https://www.mit-wf.de/event/mitgliederversammlung-gruenkohlessen/
ATTACH;FMTTYPE=image/jpeg:https://www.mit-wf.de/medien/2026/02/Mitgliederversammlung-Gruenkohlessen-AdobeStock_72686192-web.jpg
END:VEVENT
END:VCALENDAR