BEGIN:VCALENDAR
VERSION:2.0
PRODID:-//Mittelstands- und Wirtschaftsunion (MIT) Wolfenbüttel - ECPv6.15.20//NONSGML v1.0//EN
CALSCALE:GREGORIAN
METHOD:PUBLISH
X-WR-CALNAME:Mittelstands- und Wirtschaftsunion (MIT) Wolfenbüttel
X-ORIGINAL-URL:https://www.mit-wf.de
X-WR-CALDESC:Veranstaltungen für Mittelstands- und Wirtschaftsunion (MIT) Wolfenbüttel
REFRESH-INTERVAL;VALUE=DURATION:PT1H
X-Robots-Tag:noindex
X-PUBLISHED-TTL:PT1H
BEGIN:VTIMEZONE
TZID:Europe/Berlin
BEGIN:DAYLIGHT
TZOFFSETFROM:+0100
TZOFFSETTO:+0200
TZNAME:CEST
DTSTART:20240331T010000
END:DAYLIGHT
BEGIN:STANDARD
TZOFFSETFROM:+0200
TZOFFSETTO:+0100
TZNAME:CET
DTSTART:20241027T010000
END:STANDARD
BEGIN:DAYLIGHT
TZOFFSETFROM:+0100
TZOFFSETTO:+0200
TZNAME:CEST
DTSTART:20250330T010000
END:DAYLIGHT
BEGIN:STANDARD
TZOFFSETFROM:+0200
TZOFFSETTO:+0100
TZNAME:CET
DTSTART:20251026T010000
END:STANDARD
BEGIN:DAYLIGHT
TZOFFSETFROM:+0100
TZOFFSETTO:+0200
TZNAME:CEST
DTSTART:20260329T010000
END:DAYLIGHT
BEGIN:STANDARD
TZOFFSETFROM:+0200
TZOFFSETTO:+0100
TZNAME:CET
DTSTART:20261025T010000
END:STANDARD
END:VTIMEZONE
BEGIN:VEVENT
DTSTART;TZID=Europe/Berlin:20250602T180000
DTEND;TZID=Europe/Berlin:20250602T200000
DTSTAMP:20260424T212143
CREATED:20250512T101707Z
LAST-MODIFIED:20250526T063631Z
UID:10000171-1748887200-1748894400@www.mit-wf.de
SUMMARY:Exklusive Betriebsbesichtigung im Bankhaus C.L. Seeliger - verschoben auf 02.06.2025
DESCRIPTION:Der Landesverband der MIT Braunschweig lädt herzlich zu einer exklusiven Betriebsbesichtigung ein. \nErleben Sie einen spannenden Blick hinter die Kulissen eines der traditionsreichsten Bankhäuser der Region. Im Rahmen einer exklusiven Betriebsbesichtigung erhalten Sie Einblicke in die Geschichte\, Philosophie und Arbeitsweise des Bankhaus C.L. Seeliger – mit persönlicher Führung durch die Räumlichkeiten. \nEin besonderer Programmpunkt ist der Fachvortrag zum Thema: \n„Kapitalmarktausblick – Entwicklungen\, Chancen und Herausforderungen“ \nEin erfahrener Referent beleuchtet die aktuelle Lage an den Finanzmärkten\, analysiert Trends und zeigt auf\, welche Entwicklungen Investoren im Blick behalten sollten. Im Anschluss laden wir Sie zu einem Get-together bei kleinen Snacks und Getränken ein – eine gute Gelegenheit für persönlichen Austausch in angenehmer Atmosphäre. \nAblauf der Veranstaltung: \n\nEmpfang und Begrüßung\n\n\nBetriebsführung durch das Bankhaus C.L. Seeliger\n\n\nFachvortrag: „Kapitalmarktausblick“\n\n\nGet-together mit Catering & Getränken\n\nTeilnehmerzahl:\nDie Veranstaltung ist auf 30 Personen begrenzt – eine frühzeitige Anmeldung wird empfohlen. \nParkmöglichkeiten:\nParkhaus am Rosenwall oder Parkhaus im Löwentor befinden sich in fußläufiger Nähe zum Veranstaltungsort. \nJetzt anmelden:\nhttps://www.eventbrite.com/e/betriebsbesichtigung-im-bankhaus-cl-seeliger-tickets-1324886423959 \n  \nHinweis:\nDiese Veranstaltung ist vom MIT Landesverband Braunschweig\, nicht von der MIT Wolfenbüttel. \n 
URL:https://www.mit-wf.de/event/exklusive-betriebsbesichtigung-im-bankhaus-c-l-seeliger/
LOCATION:Bankhaus C. L. Seeliger\, Lange Herzogstraße 63\, Wolfenbüttel\, Niedersachsen\, 38300\, Deutschland
ATTACH;FMTTYPE=image/jpeg:https://www.mit-wf.de/medien/2025/05/mit-lvbs_seeligerbank_adobestock1084607212.jpg
GEO:52.163424;10.5347835
X-APPLE-STRUCTURED-LOCATION;VALUE=URI;X-ADDRESS=Bankhaus C. L. Seeliger Lange Herzogstraße 63 Wolfenbüttel Niedersachsen 38300 Deutschland;X-APPLE-RADIUS=500;X-TITLE=Lange Herzogstraße 63:geo:10.5347835,52.163424
END:VEVENT
END:VCALENDAR