BEGIN:VCALENDAR
VERSION:2.0
PRODID:-//Mittelstands- und Wirtschaftsunion (MIT) Wolfenbüttel - ECPv6.15.20//NONSGML v1.0//EN
CALSCALE:GREGORIAN
METHOD:PUBLISH
X-WR-CALNAME:Mittelstands- und Wirtschaftsunion (MIT) Wolfenbüttel
X-ORIGINAL-URL:https://www.mit-wf.de
X-WR-CALDESC:Veranstaltungen für Mittelstands- und Wirtschaftsunion (MIT) Wolfenbüttel
REFRESH-INTERVAL;VALUE=DURATION:PT1H
X-Robots-Tag:noindex
X-PUBLISHED-TTL:PT1H
BEGIN:VTIMEZONE
TZID:Europe/Berlin
BEGIN:DAYLIGHT
TZOFFSETFROM:+0100
TZOFFSETTO:+0200
TZNAME:CEST
DTSTART:20230326T010000
END:DAYLIGHT
BEGIN:STANDARD
TZOFFSETFROM:+0200
TZOFFSETTO:+0100
TZNAME:CET
DTSTART:20231029T010000
END:STANDARD
BEGIN:DAYLIGHT
TZOFFSETFROM:+0100
TZOFFSETTO:+0200
TZNAME:CEST
DTSTART:20240331T010000
END:DAYLIGHT
BEGIN:STANDARD
TZOFFSETFROM:+0200
TZOFFSETTO:+0100
TZNAME:CET
DTSTART:20241027T010000
END:STANDARD
BEGIN:DAYLIGHT
TZOFFSETFROM:+0100
TZOFFSETTO:+0200
TZNAME:CEST
DTSTART:20250330T010000
END:DAYLIGHT
BEGIN:STANDARD
TZOFFSETFROM:+0200
TZOFFSETTO:+0100
TZNAME:CET
DTSTART:20251026T010000
END:STANDARD
END:VTIMEZONE
BEGIN:VEVENT
DTSTART;TZID=Europe/Berlin:20241113T183000
DTEND;TZID=Europe/Berlin:20241113T220000
DTSTAMP:20260425T201222
CREATED:20240221T121814Z
LAST-MODIFIED:20241022T084938Z
UID:10000154-1731522600-1731535200@www.mit-wf.de
SUMMARY:Grünkohlessen & Mitgliederversammlung
DESCRIPTION:Mitgliederversammlung der Mittelstands- und Wirtschaftsunion (MIT)\nWir informieren unsere Mitglieder über den aktuellen Stand\, vergangene und kommende Veranstaltungen. \nIm Anschluss an die Mitgliederversammlung freuen wir uns auf das traditionelle Grünkohlbuffet. Der Buffet-Preis liegt bei 21\,90 €. Sollten Sie kein Grünkohl essen wollen\, können Sie auch gern à la carte bestellen. \nBitte melden Sie sich bis zum 07.11.2024 an und geben Sie den entsprechenden Essenswunsch an. \nEine separate Einladung zur Mitgliederversammlung erfolgt via E-Mail. \nHINWEIS \n\nDie Überweisung der Pauschale von 5\,- € entfällt für diese Veranstaltung. Das Essen wird direkt vor Ort beim Personal bezahlt. Bitte beachten Sie\, dass die Veranstaltung ausschließlich für Mitglieder der MIT Wolfenbüttel offen ist.\nBestellungen für Grünkohl sind nur bis zum 07.11.2024 möglich. Anmeldungen nach diesem Datum können nur noch à la carte aus der Speisekarte wählen.\nBitte führen Sie die Bestellung vollständig aus\, Sie erhalten nach Überprüfung eine Bestätigung der Bestellung.
URL:https://www.mit-wf.de/event/gruenkohlessen-mitgliederversammlung/
LOCATION:Restaurant „Zum Glück“\, Löwentor\, Wolfenbüttel\, 38300
ATTACH;FMTTYPE=image/jpeg:https://www.mit-wf.de/medien/2024/02/mit-wf_gruenkohlessen.jpg
ORGANIZER;CN="Mittelstands- und Wirtschaftsunion Wolfenb%C3%BCttel":MAILTO:anmeldung@mit-wf.de
GEO:52.1625358;10.5328695
X-APPLE-STRUCTURED-LOCATION;VALUE=URI;X-ADDRESS=Restaurant „Zum Glück“ Löwentor Wolfenbüttel 38300;X-APPLE-RADIUS=500;X-TITLE=Löwentor:geo:10.5328695,52.1625358
END:VEVENT
END:VCALENDAR