BEGIN:VCALENDAR
VERSION:2.0
PRODID:-//Mittelstands- und Wirtschaftsunion (MIT) Wolfenbüttel - ECPv6.15.20//NONSGML v1.0//EN
CALSCALE:GREGORIAN
METHOD:PUBLISH
X-WR-CALNAME:Mittelstands- und Wirtschaftsunion (MIT) Wolfenbüttel
X-ORIGINAL-URL:https://www.mit-wf.de
X-WR-CALDESC:Veranstaltungen für Mittelstands- und Wirtschaftsunion (MIT) Wolfenbüttel
REFRESH-INTERVAL;VALUE=DURATION:PT1H
X-Robots-Tag:noindex
X-PUBLISHED-TTL:PT1H
BEGIN:VTIMEZONE
TZID:Europe/Berlin
BEGIN:DAYLIGHT
TZOFFSETFROM:+0100
TZOFFSETTO:+0200
TZNAME:CEST
DTSTART:20230326T010000
END:DAYLIGHT
BEGIN:STANDARD
TZOFFSETFROM:+0200
TZOFFSETTO:+0100
TZNAME:CET
DTSTART:20231029T010000
END:STANDARD
BEGIN:DAYLIGHT
TZOFFSETFROM:+0100
TZOFFSETTO:+0200
TZNAME:CEST
DTSTART:20240331T010000
END:DAYLIGHT
BEGIN:STANDARD
TZOFFSETFROM:+0200
TZOFFSETTO:+0100
TZNAME:CET
DTSTART:20241027T010000
END:STANDARD
BEGIN:DAYLIGHT
TZOFFSETFROM:+0100
TZOFFSETTO:+0200
TZNAME:CEST
DTSTART:20250330T010000
END:DAYLIGHT
BEGIN:STANDARD
TZOFFSETFROM:+0200
TZOFFSETTO:+0100
TZNAME:CET
DTSTART:20251026T010000
END:STANDARD
END:VTIMEZONE
BEGIN:VEVENT
DTSTART;TZID=Europe/Berlin:20240917T120000
DTEND;TZID=Europe/Berlin:20240917T183000
DTSTAMP:20260426T045616
CREATED:20240823T090316Z
LAST-MODIFIED:20240823T090316Z
UID:10000160-1726574400-1726597800@www.mit-wf.de
SUMMARY:2. MIT Unternehmertag
DESCRIPTION:Sehr geehrte Damen und Herren\,\nliebe Mitglieder\, \nwelche aktuellen Trends prägen den Arbeitsmarkt? Wie gut sind Sie im Bereich ESG (Environmental\, Social und Governance) aufgestellt? Und wie können Sie und Ihre Mitarbeitenden von einem Fahrradleasing profitieren? Diese und weitere spannende Fragen stehen im Mittelpunkt des zweiten MIT-Unternehmertages\, zu dem wir Sie herzlich einladen. \nGemeinsam mit Oppenhoff\, einer der führenden Wirtschaftskanzleien Deutschlands\, laden wir Sie am Dienstag\, den 17. September 2024\, ins ZentrumZukunft im EcoPark in Emstek bei Cloppenburg ein. Nutzen Sie die Gelegenheit\, sich mit Experten auszutauschen\, wertvolle Einblicke in aktuelle Themen zu gewinnen und hinter die Kulissen führender Unternehmen zu blicken. \nErleben Sie einen Tag voller Inspiration\, Netzwerken und praxisorientierter Impulse\, die Sie und Ihr Unternehmen weiter voranbringen. \nWir freuen uns auf Ihre Teilnahme und einen bereichernden Gedankenaustausch! \nMit freundlichen Grüßen\nIhr Team aus der MIT-Landesgeschäftsstelle\nHolger Bormann\, Steffen Preugschat & Ulrike Gottwald \n\nWeitere Informationen (PDF)\nAnmeldung
URL:https://www.mit-wf.de/event/2-mit-unternehmertag/
LOCATION:ZentrumZukunft im EcoPark\, Europa-Allee 2\, Emstek\, 49685
ATTACH;FMTTYPE=image/jpeg:https://www.mit-wf.de/medien/2023/05/1.-unternehmertag-der-mit-2023_3.jpg
END:VEVENT
END:VCALENDAR